﻿BEGIN:VCALENDAR
VERSION:2.0
PRODID:-//Antelope Valley Country Club - ECPv6.15.20//NONSGML v1.0//EN
CALSCALE:GREGORIAN
METHOD:PUBLISH
X-WR-CALNAME:Antelope Valley Country Club
X-ORIGINAL-URL:https://antelopevalleycountryclub.com
X-WR-CALDESC:Events for Antelope Valley Country Club
REFRESH-INTERVAL;VALUE=DURATION:PT1H
X-Robots-Tag:noindex
X-PUBLISHED-TTL:PT1H
BEGIN:VTIMEZONE
TZID:America/Los_Angeles
BEGIN:DAYLIGHT
TZOFFSETFROM:-0800
TZOFFSETTO:-0700
TZNAME:PDT
DTSTART:20250309T100000
END:DAYLIGHT
BEGIN:STANDARD
TZOFFSETFROM:-0700
TZOFFSETTO:-0800
TZNAME:PST
DTSTART:20251102T090000
END:STANDARD
BEGIN:DAYLIGHT
TZOFFSETFROM:-0800
TZOFFSETTO:-0700
TZNAME:PDT
DTSTART:20260308T100000
END:DAYLIGHT
BEGIN:STANDARD
TZOFFSETFROM:-0700
TZOFFSETTO:-0800
TZNAME:PST
DTSTART:20261101T090000
END:STANDARD
BEGIN:DAYLIGHT
TZOFFSETFROM:-0800
TZOFFSETTO:-0700
TZNAME:PDT
DTSTART:20270314T100000
END:DAYLIGHT
BEGIN:STANDARD
TZOFFSETFROM:-0700
TZOFFSETTO:-0800
TZNAME:PST
DTSTART:20271107T090000
END:STANDARD
BEGIN:DAYLIGHT
TZOFFSETFROM:-0800
TZOFFSETTO:-0700
TZNAME:PDT
DTSTART:20280312T100000
END:DAYLIGHT
BEGIN:STANDARD
TZOFFSETFROM:-0700
TZOFFSETTO:-0800
TZNAME:PST
DTSTART:20281105T090000
END:STANDARD
END:VTIMEZONE
BEGIN:VEVENT
DTSTART;TZID=America/Los_Angeles:20261222T150000
DTEND;TZID=America/Los_Angeles:20261222T190000
DTSTAMP:20260425T063111
CREATED:20250823T172755Z
LAST-MODIFIED:20250823T172755Z
UID:10008053-1797951600-1797966000@antelopevalleycountryclub.com
SUMMARY:TACO TUESDAY
DESCRIPTION:EVERY TUESDAY!
URL:https://antelopevalleycountryclub.com/event/taco-tuesday/2026-12-22/
END:VEVENT
BEGIN:VEVENT
DTSTART;VALUE=DATE:20261225
DTEND;VALUE=DATE:20261226
DTSTAMP:20260425T063111
CREATED:20240615T192629Z
LAST-MODIFIED:20240615T192824Z
UID:10006412-1798156800-1798243199@antelopevalleycountryclub.com
SUMMARY:Friday Dinner
DESCRIPTION:Menu changes weekly! \nStarts at 5:00 PM \nCall The Bunker for reservations. \n661-947-3142 EXT 801
URL:https://antelopevalleycountryclub.com/event/friday-dinner/2026-12-25/
END:VEVENT
BEGIN:VEVENT
DTSTART;TZID=America/Los_Angeles:20261229T150000
DTEND;TZID=America/Los_Angeles:20261229T190000
DTSTAMP:20260425T063111
CREATED:20250823T172755Z
LAST-MODIFIED:20250823T172755Z
UID:10008054-1798556400-1798570800@antelopevalleycountryclub.com
SUMMARY:TACO TUESDAY
DESCRIPTION:EVERY TUESDAY!
URL:https://antelopevalleycountryclub.com/event/taco-tuesday/2026-12-29/
END:VEVENT
BEGIN:VEVENT
DTSTART;VALUE=DATE:20270101
DTEND;VALUE=DATE:20270102
DTSTAMP:20260425T063111
CREATED:20240615T192629Z
LAST-MODIFIED:20240615T192824Z
UID:10006413-1798761600-1798847999@antelopevalleycountryclub.com
SUMMARY:Friday Dinner
DESCRIPTION:Menu changes weekly! \nStarts at 5:00 PM \nCall The Bunker for reservations. \n661-947-3142 EXT 801
URL:https://antelopevalleycountryclub.com/event/friday-dinner/2027-01-01/
END:VEVENT
BEGIN:VEVENT
DTSTART;TZID=America/Los_Angeles:20270105T150000
DTEND;TZID=America/Los_Angeles:20270105T190000
DTSTAMP:20260425T063111
CREATED:20250823T172755Z
LAST-MODIFIED:20250823T172755Z
UID:10008055-1799161200-1799175600@antelopevalleycountryclub.com
SUMMARY:TACO TUESDAY
DESCRIPTION:EVERY TUESDAY!
URL:https://antelopevalleycountryclub.com/event/taco-tuesday/2027-01-05/
END:VEVENT
BEGIN:VEVENT
DTSTART;VALUE=DATE:20270108
DTEND;VALUE=DATE:20270109
DTSTAMP:20260425T063111
CREATED:20240615T192629Z
LAST-MODIFIED:20240615T192824Z
UID:10006414-1799366400-1799452799@antelopevalleycountryclub.com
SUMMARY:Friday Dinner
DESCRIPTION:Menu changes weekly! \nStarts at 5:00 PM \nCall The Bunker for reservations. \n661-947-3142 EXT 801
URL:https://antelopevalleycountryclub.com/event/friday-dinner/2027-01-08/
END:VEVENT
BEGIN:VEVENT
DTSTART;TZID=America/Los_Angeles:20270112T150000
DTEND;TZID=America/Los_Angeles:20270112T190000
DTSTAMP:20260425T063111
CREATED:20250823T172755Z
LAST-MODIFIED:20250823T172755Z
UID:10008056-1799766000-1799780400@antelopevalleycountryclub.com
SUMMARY:TACO TUESDAY
DESCRIPTION:EVERY TUESDAY!
URL:https://antelopevalleycountryclub.com/event/taco-tuesday/2027-01-12/
END:VEVENT
BEGIN:VEVENT
DTSTART;VALUE=DATE:20270115
DTEND;VALUE=DATE:20270116
DTSTAMP:20260425T063111
CREATED:20240615T192629Z
LAST-MODIFIED:20240615T192824Z
UID:10006415-1799971200-1800057599@antelopevalleycountryclub.com
SUMMARY:Friday Dinner
DESCRIPTION:Menu changes weekly! \nStarts at 5:00 PM \nCall The Bunker for reservations. \n661-947-3142 EXT 801
URL:https://antelopevalleycountryclub.com/event/friday-dinner/2027-01-15/
END:VEVENT
BEGIN:VEVENT
DTSTART;TZID=America/Los_Angeles:20270119T120000
DTEND;TZID=America/Los_Angeles:20270119T133000
DTSTAMP:20260425T063111
CREATED:20251017T174424Z
LAST-MODIFIED:20251017T174424Z
UID:10008290-1800360000-1800365400@antelopevalleycountryclub.com
SUMMARY:Republican Women
DESCRIPTION:Held every 3rd Tuesday in the Banquet Hall \nGuest: 25 – 30 \nHost: Patti Kahl
URL:https://antelopevalleycountryclub.com/event/republican-women-4/2027-01-19/
END:VEVENT
BEGIN:VEVENT
DTSTART;TZID=America/Los_Angeles:20270119T150000
DTEND;TZID=America/Los_Angeles:20270119T190000
DTSTAMP:20260425T063111
CREATED:20250823T172755Z
LAST-MODIFIED:20250823T172755Z
UID:10008057-1800370800-1800385200@antelopevalleycountryclub.com
SUMMARY:TACO TUESDAY
DESCRIPTION:EVERY TUESDAY!
URL:https://antelopevalleycountryclub.com/event/taco-tuesday/2027-01-19/
END:VEVENT
BEGIN:VEVENT
DTSTART;VALUE=DATE:20270121
DTEND;VALUE=DATE:20270122
DTSTAMP:20260425T063111
CREATED:20240229T225551Z
LAST-MODIFIED:20240229T225710Z
UID:10005676-1800489600-1800575999@antelopevalleycountryclub.com
SUMMARY:Employee of the Month Submissions
DESCRIPTION:Use the attached link to submit your nominee! \nhttps://docs.google.com/forms/d/e/1FAIpQLSenjDPbsm2VEYpbNuPIrnuz79WCrdsAGOKP4e7QSUdXlJPrvQ/viewform?usp=sf_link
URL:https://antelopevalleycountryclub.com/event/employee-of-the-month-submissions/2027-01-21/
END:VEVENT
BEGIN:VEVENT
DTSTART;VALUE=DATE:20270122
DTEND;VALUE=DATE:20270123
DTSTAMP:20260425T063111
CREATED:20240615T192629Z
LAST-MODIFIED:20240615T192824Z
UID:10006416-1800576000-1800662399@antelopevalleycountryclub.com
SUMMARY:Friday Dinner
DESCRIPTION:Menu changes weekly! \nStarts at 5:00 PM \nCall The Bunker for reservations. \n661-947-3142 EXT 801
URL:https://antelopevalleycountryclub.com/event/friday-dinner/2027-01-22/
END:VEVENT
BEGIN:VEVENT
DTSTART;TZID=America/Los_Angeles:20270126T150000
DTEND;TZID=America/Los_Angeles:20270126T190000
DTSTAMP:20260425T063111
CREATED:20250823T172755Z
LAST-MODIFIED:20250823T172755Z
UID:10008058-1800975600-1800990000@antelopevalleycountryclub.com
SUMMARY:TACO TUESDAY
DESCRIPTION:EVERY TUESDAY!
URL:https://antelopevalleycountryclub.com/event/taco-tuesday/2027-01-26/
END:VEVENT
BEGIN:VEVENT
DTSTART;VALUE=DATE:20270129
DTEND;VALUE=DATE:20270130
DTSTAMP:20260425T063111
CREATED:20240615T192629Z
LAST-MODIFIED:20240615T192824Z
UID:10006417-1801180800-1801267199@antelopevalleycountryclub.com
SUMMARY:Friday Dinner
DESCRIPTION:Menu changes weekly! \nStarts at 5:00 PM \nCall The Bunker for reservations. \n661-947-3142 EXT 801
URL:https://antelopevalleycountryclub.com/event/friday-dinner/2027-01-29/
END:VEVENT
BEGIN:VEVENT
DTSTART;TZID=America/Los_Angeles:20270202T150000
DTEND;TZID=America/Los_Angeles:20270202T190000
DTSTAMP:20260425T063111
CREATED:20250823T172755Z
LAST-MODIFIED:20250823T172755Z
UID:10008059-1801580400-1801594800@antelopevalleycountryclub.com
SUMMARY:TACO TUESDAY
DESCRIPTION:EVERY TUESDAY!
URL:https://antelopevalleycountryclub.com/event/taco-tuesday/2027-02-02/
END:VEVENT
BEGIN:VEVENT
DTSTART;VALUE=DATE:20270205
DTEND;VALUE=DATE:20270206
DTSTAMP:20260425T063111
CREATED:20240615T192629Z
LAST-MODIFIED:20240615T192824Z
UID:10006418-1801785600-1801871999@antelopevalleycountryclub.com
SUMMARY:Friday Dinner
DESCRIPTION:Menu changes weekly! \nStarts at 5:00 PM \nCall The Bunker for reservations. \n661-947-3142 EXT 801
URL:https://antelopevalleycountryclub.com/event/friday-dinner/2027-02-05/
END:VEVENT
BEGIN:VEVENT
DTSTART;TZID=America/Los_Angeles:20270209T150000
DTEND;TZID=America/Los_Angeles:20270209T190000
DTSTAMP:20260425T063111
CREATED:20250823T172755Z
LAST-MODIFIED:20250823T172755Z
UID:10008060-1802185200-1802199600@antelopevalleycountryclub.com
SUMMARY:TACO TUESDAY
DESCRIPTION:EVERY TUESDAY!
URL:https://antelopevalleycountryclub.com/event/taco-tuesday/2027-02-09/
END:VEVENT
BEGIN:VEVENT
DTSTART;VALUE=DATE:20270212
DTEND;VALUE=DATE:20270213
DTSTAMP:20260425T063111
CREATED:20240615T192629Z
LAST-MODIFIED:20240615T192824Z
UID:10006419-1802390400-1802476799@antelopevalleycountryclub.com
SUMMARY:Friday Dinner
DESCRIPTION:Menu changes weekly! \nStarts at 5:00 PM \nCall The Bunker for reservations. \n661-947-3142 EXT 801
URL:https://antelopevalleycountryclub.com/event/friday-dinner/2027-02-12/
END:VEVENT
BEGIN:VEVENT
DTSTART;TZID=America/Los_Angeles:20270216T120000
DTEND;TZID=America/Los_Angeles:20270216T133000
DTSTAMP:20260425T063111
CREATED:20251017T174424Z
LAST-MODIFIED:20251017T174424Z
UID:10008291-1802779200-1802784600@antelopevalleycountryclub.com
SUMMARY:Republican Women
DESCRIPTION:Held every 3rd Tuesday in the Banquet Hall \nGuest: 25 – 30 \nHost: Patti Kahl
URL:https://antelopevalleycountryclub.com/event/republican-women-4/2027-02-16/
END:VEVENT
BEGIN:VEVENT
DTSTART;TZID=America/Los_Angeles:20270216T150000
DTEND;TZID=America/Los_Angeles:20270216T190000
DTSTAMP:20260425T063111
CREATED:20250823T172755Z
LAST-MODIFIED:20250823T172755Z
UID:10008061-1802790000-1802804400@antelopevalleycountryclub.com
SUMMARY:TACO TUESDAY
DESCRIPTION:EVERY TUESDAY!
URL:https://antelopevalleycountryclub.com/event/taco-tuesday/2027-02-16/
END:VEVENT
BEGIN:VEVENT
DTSTART;VALUE=DATE:20270218
DTEND;VALUE=DATE:20270219
DTSTAMP:20260425T063111
CREATED:20240229T225551Z
LAST-MODIFIED:20240229T225710Z
UID:10005677-1802908800-1802995199@antelopevalleycountryclub.com
SUMMARY:Employee of the Month Submissions
DESCRIPTION:Use the attached link to submit your nominee! \nhttps://docs.google.com/forms/d/e/1FAIpQLSenjDPbsm2VEYpbNuPIrnuz79WCrdsAGOKP4e7QSUdXlJPrvQ/viewform?usp=sf_link
URL:https://antelopevalleycountryclub.com/event/employee-of-the-month-submissions/2027-02-18/
END:VEVENT
BEGIN:VEVENT
DTSTART;VALUE=DATE:20270219
DTEND;VALUE=DATE:20270220
DTSTAMP:20260425T063111
CREATED:20240615T192629Z
LAST-MODIFIED:20240615T192824Z
UID:10006420-1802995200-1803081599@antelopevalleycountryclub.com
SUMMARY:Friday Dinner
DESCRIPTION:Menu changes weekly! \nStarts at 5:00 PM \nCall The Bunker for reservations. \n661-947-3142 EXT 801
URL:https://antelopevalleycountryclub.com/event/friday-dinner/2027-02-19/
END:VEVENT
BEGIN:VEVENT
DTSTART;TZID=America/Los_Angeles:20270223T150000
DTEND;TZID=America/Los_Angeles:20270223T190000
DTSTAMP:20260425T063111
CREATED:20250823T172755Z
LAST-MODIFIED:20250823T172755Z
UID:10008062-1803394800-1803409200@antelopevalleycountryclub.com
SUMMARY:TACO TUESDAY
DESCRIPTION:EVERY TUESDAY!
URL:https://antelopevalleycountryclub.com/event/taco-tuesday/2027-02-23/
END:VEVENT
BEGIN:VEVENT
DTSTART;VALUE=DATE:20270226
DTEND;VALUE=DATE:20270227
DTSTAMP:20260425T063111
CREATED:20240615T192629Z
LAST-MODIFIED:20240615T192824Z
UID:10006421-1803600000-1803686399@antelopevalleycountryclub.com
SUMMARY:Friday Dinner
DESCRIPTION:Menu changes weekly! \nStarts at 5:00 PM \nCall The Bunker for reservations. \n661-947-3142 EXT 801
URL:https://antelopevalleycountryclub.com/event/friday-dinner/2027-02-26/
END:VEVENT
BEGIN:VEVENT
DTSTART;TZID=America/Los_Angeles:20270302T150000
DTEND;TZID=America/Los_Angeles:20270302T190000
DTSTAMP:20260425T063111
CREATED:20250823T172755Z
LAST-MODIFIED:20250823T172755Z
UID:10008063-1803999600-1804014000@antelopevalleycountryclub.com
SUMMARY:TACO TUESDAY
DESCRIPTION:EVERY TUESDAY!
URL:https://antelopevalleycountryclub.com/event/taco-tuesday/2027-03-02/
END:VEVENT
BEGIN:VEVENT
DTSTART;VALUE=DATE:20270305
DTEND;VALUE=DATE:20270306
DTSTAMP:20260425T063111
CREATED:20240615T192629Z
LAST-MODIFIED:20240615T192824Z
UID:10006422-1804204800-1804291199@antelopevalleycountryclub.com
SUMMARY:Friday Dinner
DESCRIPTION:Menu changes weekly! \nStarts at 5:00 PM \nCall The Bunker for reservations. \n661-947-3142 EXT 801
URL:https://antelopevalleycountryclub.com/event/friday-dinner/2027-03-05/
END:VEVENT
BEGIN:VEVENT
DTSTART;TZID=America/Los_Angeles:20270309T150000
DTEND;TZID=America/Los_Angeles:20270309T190000
DTSTAMP:20260425T063111
CREATED:20250823T172755Z
LAST-MODIFIED:20250823T172755Z
UID:10008064-1804604400-1804618800@antelopevalleycountryclub.com
SUMMARY:TACO TUESDAY
DESCRIPTION:EVERY TUESDAY!
URL:https://antelopevalleycountryclub.com/event/taco-tuesday/2027-03-09/
END:VEVENT
BEGIN:VEVENT
DTSTART;VALUE=DATE:20270312
DTEND;VALUE=DATE:20270313
DTSTAMP:20260425T063111
CREATED:20240615T192629Z
LAST-MODIFIED:20240615T192824Z
UID:10006423-1804809600-1804895999@antelopevalleycountryclub.com
SUMMARY:Friday Dinner
DESCRIPTION:Menu changes weekly! \nStarts at 5:00 PM \nCall The Bunker for reservations. \n661-947-3142 EXT 801
URL:https://antelopevalleycountryclub.com/event/friday-dinner/2027-03-12/
END:VEVENT
BEGIN:VEVENT
DTSTART;TZID=America/Los_Angeles:20270316T120000
DTEND;TZID=America/Los_Angeles:20270316T133000
DTSTAMP:20260425T063111
CREATED:20251017T174424Z
LAST-MODIFIED:20251017T174424Z
UID:10008292-1805198400-1805203800@antelopevalleycountryclub.com
SUMMARY:Republican Women
DESCRIPTION:Held every 3rd Tuesday in the Banquet Hall \nGuest: 25 – 30 \nHost: Patti Kahl
URL:https://antelopevalleycountryclub.com/event/republican-women-4/2027-03-16/
END:VEVENT
BEGIN:VEVENT
DTSTART;TZID=America/Los_Angeles:20270316T150000
DTEND;TZID=America/Los_Angeles:20270316T190000
DTSTAMP:20260425T063111
CREATED:20250823T172755Z
LAST-MODIFIED:20250823T172755Z
UID:10008065-1805209200-1805223600@antelopevalleycountryclub.com
SUMMARY:TACO TUESDAY
DESCRIPTION:EVERY TUESDAY!
URL:https://antelopevalleycountryclub.com/event/taco-tuesday/2027-03-16/
END:VEVENT
END:VCALENDAR